BEGIN:VCALENDAR
VERSION:2.0
PRODID:-//Stowarzyszenie Rekonstrukcji Historycznej REGA - ECPv5.8.0//NONSGML v1.0//EN
CALSCALE:GREGORIAN
METHOD:PUBLISH
X-WR-CALNAME:Stowarzyszenie Rekonstrukcji Historycznej REGA
X-ORIGINAL-URL:https://srhrega.pl
X-WR-CALDESC:Events for Stowarzyszenie Rekonstrukcji Historycznej REGA
BEGIN:VTIMEZONE
TZID:Europe/Warsaw
BEGIN:DAYLIGHT
TZOFFSETFROM:+0100
TZOFFSETTO:+0200
TZNAME:CEST
DTSTART:20230326T010000
END:DAYLIGHT
BEGIN:STANDARD
TZOFFSETFROM:+0200
TZOFFSETTO:+0100
TZNAME:CET
DTSTART:20231029T010000
END:STANDARD
END:VTIMEZONE
BEGIN:VEVENT
DTSTART;TZID=Europe/Warsaw:20230729T120000
DTEND;TZID=Europe/Warsaw:20230730T170000
DTSTAMP:20260421T114222
CREATED:20230125T183631Z
LAST-MODIFIED:20230125T183631Z
UID:5659-1690632000-1690736400@srhrega.pl
SUMMARY:Święto Kaszy Trzebiatów (XIV/XV w.) - 29-30.07.2023 r.
DESCRIPTION:
URL:https://srhrega.pl/event/swieto-kaszy-trzebiatow-xiv-xv-w-29-30-07-2023-r/
LOCATION:72-320 Trzebiatów\, Wojska Polskiego 67\, Wojska Polskiego 67\, Trzebiatów\, zachodniopomorskie\, 72-320\, Poland
ATTACH;FMTTYPE=image/jpeg:https://srhrega.pl/wp-content/uploads/2023/01/296208192_1100428017574171_2240572312359970249_n.jpg
END:VEVENT
END:VCALENDAR