BEGIN:VCALENDAR
VERSION:2.0
PRODID:-//Stowarzyszenie Rekonstrukcji Historycznej REGA - ECPv5.8.0//NONSGML v1.0//EN
CALSCALE:GREGORIAN
METHOD:PUBLISH
X-WR-CALNAME:Stowarzyszenie Rekonstrukcji Historycznej REGA
X-ORIGINAL-URL:https://srhrega.pl
X-WR-CALDESC:Events for Stowarzyszenie Rekonstrukcji Historycznej REGA
BEGIN:VTIMEZONE
TZID:Europe/Warsaw
BEGIN:DAYLIGHT
TZOFFSETFROM:+0100
TZOFFSETTO:+0200
TZNAME:CEST
DTSTART:20210328T010000
END:DAYLIGHT
BEGIN:STANDARD
TZOFFSETFROM:+0200
TZOFFSETTO:+0100
TZNAME:CET
DTSTART:20211031T010000
END:STANDARD
END:VTIMEZONE
BEGIN:VEVENT
DTSTART;TZID=Europe/Warsaw:20210815T160000
DTEND;TZID=Europe/Warsaw:20210815T190000
DTSTAMP:20260422T124357
CREATED:20210811T211141Z
LAST-MODIFIED:20210811T211248Z
UID:3052-1629043200-1629054000@srhrega.pl
SUMMARY:Piknik w Mundurze
DESCRIPTION:15 sierpnia br. w Święto Wojska Polskiego widzimy się w mundurach 1 AWP (Berlingowcy) w Muzeum Obrony Przeciwlotniczej w Koszalinie na Pikniku w Mundurze.
URL:https://srhrega.pl/event/piknik-w-mundurze/
LOCATION:Wojska Polskiego 70\, 75-903 Koszalin\, Wojska Polskiego 70\, 75-903 Koszalin\, Koszalin\, zachodniopomorskie\, 75-903\, Poland
ATTACH;FMTTYPE=image/jpeg:https://srhrega.pl/wp-content/uploads/2021/08/235221265_4147260688699044_5761524133191072009_n.jpg
END:VEVENT
END:VCALENDAR