BEGIN:VCALENDAR
VERSION:2.0
PRODID:-//Stowarzyszenie Rekonstrukcji Historycznej REGA - ECPv5.8.0//NONSGML v1.0//EN
CALSCALE:GREGORIAN
METHOD:PUBLISH
X-WR-CALNAME:Stowarzyszenie Rekonstrukcji Historycznej REGA
X-ORIGINAL-URL:https://srhrega.pl
X-WR-CALDESC:Events for Stowarzyszenie Rekonstrukcji Historycznej REGA
BEGIN:VTIMEZONE
TZID:Europe/Warsaw
BEGIN:DAYLIGHT
TZOFFSETFROM:+0100
TZOFFSETTO:+0200
TZNAME:CEST
DTSTART:20210328T010000
END:DAYLIGHT
BEGIN:STANDARD
TZOFFSETFROM:+0200
TZOFFSETTO:+0100
TZNAME:CET
DTSTART:20211031T010000
END:STANDARD
END:VTIMEZONE
BEGIN:VEVENT
DTSTART;TZID=Europe/Warsaw:20210813T100000
DTEND;TZID=Europe/Warsaw:20210815T150000
DTSTAMP:20260422T130501
CREATED:20210813T170523Z
LAST-MODIFIED:20210813T170523Z
UID:3115-1628848800-1629039600@srhrega.pl
SUMMARY:II TARGI POLSKA SMAKUJE W KOŁOBRZEGU
DESCRIPTION:W dniach 13.08-15.08.2021 r zapraszamy do wczesnośredniowiecznej wioski rybackiej w której będzie można podejrzeć wędzenie ryb oraz jak Solnicy warzą sól …. a wszystko w ramach II Targów Polska Smakuje w Kołobrzegu.
URL:https://srhrega.pl/event/ii-targi-polska-smakuje-w-kolobrzegu/
LOCATION:Sikorskiego 11\, 78-100 Kołobrzeg\, Sikorskiego 11\, 78-100 Kołobrzeg\, Kołobrzeg\, Zachodniopomorskie\, 78-100\, Poland
ATTACH;FMTTYPE=image/jpeg:https://srhrega.pl/wp-content/uploads/2021/08/22-scaled.jpg
END:VEVENT
END:VCALENDAR