BEGIN:VCALENDAR
VERSION:2.0
PRODID:-//Stowarzyszenie Rekonstrukcji Historycznej REGA - ECPv5.8.0//NONSGML v1.0//EN
CALSCALE:GREGORIAN
METHOD:PUBLISH
X-WR-CALNAME:Stowarzyszenie Rekonstrukcji Historycznej REGA
X-ORIGINAL-URL:https://srhrega.pl
X-WR-CALDESC:Events for Stowarzyszenie Rekonstrukcji Historycznej REGA
BEGIN:VTIMEZONE
TZID:Europe/Warsaw
BEGIN:DAYLIGHT
TZOFFSETFROM:+0100
TZOFFSETTO:+0200
TZNAME:CEST
DTSTART:20210328T010000
END:DAYLIGHT
BEGIN:STANDARD
TZOFFSETFROM:+0200
TZOFFSETTO:+0100
TZNAME:CET
DTSTART:20211031T010000
END:STANDARD
END:VTIMEZONE
BEGIN:VEVENT
DTSTART;TZID=Europe/Warsaw:20211010T100000
DTEND;TZID=Europe/Warsaw:20211010T150000
DTSTAMP:20260422T130335
CREATED:20211007T203034Z
LAST-MODIFIED:20211007T203734Z
UID:3479-1633860000-1633878000@srhrega.pl
SUMMARY:GRA MIEJSKA „O wolność i chleb! Poznański Czerwiec 1956”.
DESCRIPTION:Już w najbliższą niedzielę widzimy się w Sianowie i zapraszamy na zabawę z historią w ramach gry miejskiej „O wolność i chleb! Poznański Czerwiec 1956”.\nNa punktach kontrolnych\, rozmieszczonych na terenie miasta czekać będą zabytkowe pojazdy oraz rekonstruktorzy w strojach odpowiadających realiom PRL w połowie lat pięćdziesiątych.\n\nNa każdym z nich do zrealizowania będą zadania\, zarówno teoretyczne\, związane z dziejami naszego kraju krótko po zakończeniu II wojny światowej oraz praktyczne. \nIdeą projektu jest przybliżenie wydarzeń\, do których doszło 28 czerwca 1956 r. w Poznaniu. Wielotysięczny protest robotników\, wywołany między innymi podwyżkami cen oraz pogorszeniem warunków pracy zakończył się  wielkim\, miejskim protestem przeciwko władzy komunistycznej. Ta zdecydowała się wyprowadzić na ulice milicję i wojsko\, w tym jednostki pancerne. W starciach życie straciło ok. 60 osób\, co czwarta z nich nie miała 18 lat. Wydarzenia czerwcowe dały początek tzw. odwilży politycznej w PRL. \nOrganizatorem gry miejskiej „O wolność i chleb! Poznański Czerwiec 1956” jest założone w 2017 r. w Sianowie Stowarzyszenie Historyczne Pochodnia – jedna z czołowych w regionie organizacji pozarządowych\, zajmujących się profesjonalną i nowoczesną edukacją humanistyczną. Do współpracy lokalni pasjonaci zaprosili przyjaciół ze Stowarzyszenia Parva Patria w Gieczu\, Stowarzyszenia Historyczno-Fortyfikacyjnego Przedmoście Piła\, Stowarzyszenie Rekonstrukcji Historycznej Rega z Trzebiatowa oraz szczecińskiej Grupy Polskie Sokoły. \nTo drugie tego rodzaju przedsięwzięcie zorganizowane w Sianowie\, w bieżącym roku. 1 sierpnia miłośnicy zgłębiania tajemnic przeszłości zachęcali mieszkańców i gości regionu do udziału w podobnym co do zasady przedsięwzięciu\, tematycznie dotyczącym Powstania Warszawskiego. Cieszyła się sporym zainteresowaniem. \nStart niedzielnej gry zaplanowano o godz. 12.00 na dziedzińcu Dziennego Domu Senior+ przy ul. Armii Polskiej 33 (wejście od strony parku). Uczestnicy będą mogli zgłosić się tuż przed startem – rejestracja wystartuje w tym samym miejscu o godz. 11.00. Udział jest rzecz jasna bezpłatny. \n\nCzekamy na Was!
URL:https://srhrega.pl/event/gra-miejska-o-wolnosc-i-chleb-poznanski-czerwiec-1956/
LOCATION:76-004 Sianów\, ul . Armii Krajowej 33\, 76-004 SIANÓW UL. ARMII KRAJOWEJ 33\, SIANÓW\, zachodniopomorskie\, 76-004\, Poland
ATTACH;FMTTYPE=image/jpeg:https://srhrega.pl/wp-content/uploads/2021/10/244646319_158221273145038_5955632881562053026_n.jpg
END:VEVENT
END:VCALENDAR